BEGIN:VCALENDAR
VERSION:2.0
PRODID:-//Paolo Swings - ECPv4.6.15//NONSGML v1.0//EN
CALSCALE:GREGORIAN
METHOD:PUBLISH
X-WR-CALNAME:Paolo Swings
X-ORIGINAL-URL:https://paoloswings.com/blog
X-WR-CALDESC:Events for Paolo Swings
BEGIN:VEVENT
DTSTART;TZID=America/New_York:20160623T180000
DTEND;TZID=America/New_York:20160623T200000
DTSTAMP:20260422T091738
CREATED:20160618T161021Z
LAST-MODIFIED:20160618T161021Z
UID:1099-1466704800-1466712000@paoloswings.com
SUMMARY:Mt Vernon High School special event
DESCRIPTION:Stay tuned for details on the special presentation featuring the band FELIX & THE CATS and partner dancers from the Rhythm Stompers. \n 
URL:https://paoloswings.com/blog/event/1099/
CATEGORIES:Upcoming
ATTACH;FMTTYPE=image/jpeg:https://paoloswings.com/blog/wp-content/uploads/2014/04/GothamGirls_program2013.jpg
END:VEVENT
END:VCALENDAR