BEGIN:VCALENDAR
VERSION:2.0
PRODID:-//Paolo Swings - ECPv4.6.15//NONSGML v1.0//EN
CALSCALE:GREGORIAN
METHOD:PUBLISH
X-WR-CALNAME:Paolo Swings
X-ORIGINAL-URL:https://paoloswings.com/blog
X-WR-CALDESC:Events for Paolo Swings
BEGIN:VEVENT
DTSTART;TZID=America/New_York:20171130T190000
DTEND;TZID=America/New_York:20171130T220000
DTSTAMP:20260422T111848
CREATED:20170916T050231Z
LAST-MODIFIED:20170916T050231Z
UID:5585-1512068400-1512079200@paoloswings.com
SUMMARY:FUNDRAISER & AWARDS CEREMONY
DESCRIPTION:THURSDAY NOVEMBER 30th\nFUNDRAISER & AWARDS CEREMONY\nDANCERS: TWO COUPLES from the RHYTHM STOMPERS will present showcase numbers during the Awards Ceremony.  \nLOCATION: Saint Peter’s University Sky Room 47 Glenwood Avenue Jersey City\, NJ 07306\nAPPEARANCE TIME: 6:30 – 7:30 and 8:15 – 8:45pm \n 
URL:https://paoloswings.com/blog/event/2235/
CATEGORIES:Upcoming
ATTACH;FMTTYPE=:
END:VEVENT
END:VCALENDAR