BEGIN:VCALENDAR
VERSION:2.0
PRODID:-//Paolo Swings - ECPv4.6.15//NONSGML v1.0//EN
CALSCALE:GREGORIAN
METHOD:PUBLISH
X-WR-CALNAME:Paolo Swings
X-ORIGINAL-URL:https://paoloswings.com/blog
X-WR-CALDESC:Events for Paolo Swings
BEGIN:VEVENT
DTSTART;TZID=America/New_York:20190915T180000
DTEND;TZID=America/New_York:20190915T200000
DTSTAMP:20260422T093141
CREATED:20190914T072519Z
LAST-MODIFIED:20190914T072519Z
UID:3633-1568570400-1568577600@paoloswings.com
SUMMARY:DJ Shuffle Steps at Alvin & Friends Restaurant
DESCRIPTION:Reception Immediately following the Performance of\n“ITS DELOVELY”\n“A Celebration of Cole Porter” Ballroom & Swing Dancing\nwith DJ SHUFFLE STEPS\nTime: 6:00pm\nLocation: Alvin and Friends Restaurant\n14 Memorial Highway\nNew Rochelle\, NY\nIn the Private Room\nCover $10\nCash Bar.\nMeals a la carte. \n \n 
URL:https://paoloswings.com/blog/event/3633/
LOCATION:14 Memorial Highway\, New Rochelle\, NY\, United States
CATEGORIES:Upcoming
ATTACH;FMTTYPE=image/jpeg:https://paoloswings.com/blog/wp-content/uploads/2019/09/Paolo_Laurentina_ElbowDipMINI_FT1248_WEB-John-Abbott.jpg
END:VEVENT
END:VCALENDAR