BEGIN:VCALENDAR
VERSION:2.0
PRODID:-//Paolo Swings - ECPv4.6.15//NONSGML v1.0//EN
CALSCALE:GREGORIAN
METHOD:PUBLISH
X-WR-CALNAME:Paolo Swings
X-ORIGINAL-URL:https://paoloswings.com/blog
X-WR-CALDESC:Events for Paolo Swings
BEGIN:VEVENT
DTSTART;TZID=America/New_York:20150328T120500
DTEND;TZID=America/New_York:20150328T150500
DTSTAMP:20260422T093945
CREATED:20150223T035042Z
LAST-MODIFIED:20150223T035042Z
UID:5411-1427544300-1427555100@paoloswings.com
SUMMARY:8-Count Extreme - An accelerated Lindy Hop experience
DESCRIPTION:  \n \nwith Paolo & Stina \nAdv Beg/Pre-Int Level: \nAn accelerated learning experience great for the development of the Lindy Hop and the next level of learning. \nPricing: $40 in advance / $50 day of \nRegister Here: http://youshouldbedancing.nyc/events/lindy-8-count-extreme-workshop/ \n 
URL:https://paoloswings.com/blog/event/8-count-extreme-lindy-hop-workshop/
LOCATION:412 Eighth Avenue 4th Floor\, New York\, NY\, 10001\, United States
GEO:40.7499527;-73.9947516
X-APPLE-STRUCTURED-LOCATION;VALUE=URI;X-ADDRESS=412 Eighth Avenue 4th Floor New York NY 10001 United States;X-APPLE-RADIUS=500;X-TITLE=412 Eighth Avenue 4th Floor:geo:-73.9947516,40.7499527
CATEGORIES:Classes,Upcoming
ATTACH;FMTTYPE=:
END:VEVENT
END:VCALENDAR