BEGIN:VCALENDAR
VERSION:2.0
PRODID:-//Paolo Swings - ECPv4.6.15//NONSGML v1.0//EN
CALSCALE:GREGORIAN
METHOD:PUBLISH
X-WR-CALNAME:Paolo Swings
X-ORIGINAL-URL:https://paoloswings.com/blog
X-WR-CALDESC:Events for Paolo Swings
BEGIN:VEVENT
DTSTART;TZID=America/New_York:20160409T190000
DTEND;TZID=America/New_York:20160409T210000
DTSTAMP:20260424T104708
CREATED:20160402T185733Z
LAST-MODIFIED:20160402T185733Z
UID:5462-1460228400-1460235600@paoloswings.com
SUMMARY:Bathtub Ginnys Give Tribute to Norma Miller
DESCRIPTION:The Bathtub Ginnys will be one of the featured acts for a Tribute night to Norma Miller\, the last of the living legends who was a member of Whitey’s Lindy Hoppers. Tarrytown\, New York \n  \n 
URL:https://paoloswings.com/blog/event/bathtub-ginnys-give-tribute-to-norma-miller/
CATEGORIES:Upcoming
ATTACH;FMTTYPE=:
END:VEVENT
END:VCALENDAR