BEGIN:VCALENDAR
VERSION:2.0
PRODID:-//Paolo Swings - ECPv4.6.15//NONSGML v1.0//EN
CALSCALE:GREGORIAN
METHOD:PUBLISH
X-WR-CALNAME:Paolo Swings
X-ORIGINAL-URL:https://paoloswings.com/blog
X-WR-CALDESC:Events for Paolo Swings
BEGIN:VEVENT
DTSTART;TZID=America/New_York:20220909T153000
DTEND;TZID=America/New_York:20220909T183000
DTSTAMP:20260421T132151
CREATED:20220823T130301Z
LAST-MODIFIED:20220823T130652Z
UID:6630-1662737400-1662748200@paoloswings.com
SUMMARY:Central Park Swings
DESCRIPTION:Central Park Swings returns for one final event in 2022 on September 9th FRIDAY. See the official event listing here \n  \nLIVE SWING BAND \n \n 
URL:https://paoloswings.com/blog/event/central-park-swings-2/
LOCATION:Terrace Dr. near W 72nd St\, New York\, NY\, United States
CATEGORIES:Classes,Upcoming
ATTACH;FMTTYPE=image/jpeg:https://paoloswings.com/blog/wp-content/uploads/2022/08/MatthewPiazzi_ITHappenedInMonterey_CentralPark.jpg
END:VEVENT
END:VCALENDAR