BEGIN:VCALENDAR
VERSION:2.0
PRODID:-//Paolo Swings - ECPv4.6.15//NONSGML v1.0//EN
CALSCALE:GREGORIAN
METHOD:PUBLISH
X-WR-CALNAME:Paolo Swings
X-ORIGINAL-URL:https://paoloswings.com/blog
X-WR-CALDESC:Events for Paolo Swings
BEGIN:VEVENT
DTSTART;TZID=America/New_York:20220408T153000
DTEND;TZID=America/New_York:20220408T183000
DTSTAMP:20260421T164926
CREATED:20220405T141258Z
LAST-MODIFIED:20220405T141258Z
UID:6626-1649431800-1649442600@paoloswings.com
SUMMARY:Central Park Swings
DESCRIPTION:April 8 @ 3:30 pm – 6:30 pm\nLive Music | Matthew Piazzi & The Debonairs  \nNaumburg Bandshell Terrace Dr. near W 72nd St\, New York\nCentral Park Swings presents its inaugural event on FRIDAY APRIL 8th featuring Matthew Piazzi & The Debonairs. Central Park Swings presented LIVE MUSIC and DANCING from 2002 – 2008 and is returning here in 2022 for more fabulous public events. a $10 donation is suggested \n 
URL:https://paoloswings.com/blog/event/central-park-swings/
LOCATION:Terrace Dr. near W 72nd St\, New York\, NY\, United States
CATEGORIES:Upcoming
ATTACH;FMTTYPE=image/jpeg:https://paoloswings.com/blog/wp-content/uploads/2022/04/centralpark_bandshell_LOGO-overlay.jpg
ORGANIZER;CN="Jumpin%20Entertainment%20LLC":MAILTO:info@JumpinEntertainment.com
END:VEVENT
END:VCALENDAR