BEGIN:VCALENDAR
VERSION:2.0
PRODID:-//Paolo Swings - ECPv4.6.15//NONSGML v1.0//EN
CALSCALE:GREGORIAN
METHOD:PUBLISH
X-WR-CALNAME:Paolo Swings
X-ORIGINAL-URL:https://paoloswings.com/blog
X-WR-CALDESC:Events for Paolo Swings
BEGIN:VEVENT
DTSTART;TZID=America/New_York:20181208T180000
DTEND;TZID=America/New_York:20181208T220000
DTSTAMP:20260422T110022
CREATED:20180524T183659Z
LAST-MODIFIED:20180524T183659Z
UID:2868-1544292000-1544306400@paoloswings.com
SUMMARY:Charleston Specialists at Private Function
DESCRIPTION:Our Charleston and Collegiate Shag specialists will perform at this private function for a special ceremony. \n 
URL:https://paoloswings.com/blog/event/charleston-specialists-at-private-function/
LOCATION:VFW POST 1790 65 E Merrick Rd\, Valley Stream\, NY\, 11580\, United States
GEO:40.6644725;-73.6957753
X-APPLE-STRUCTURED-LOCATION;VALUE=URI;X-ADDRESS=VFW POST 1790 65 E Merrick Rd Valley Stream NY 11580 United States;X-APPLE-RADIUS=500;X-TITLE=VFW POST 1790 65 E Merrick Rd:geo:-73.6957753,40.6644725
CATEGORIES:Upcoming
ATTACH;FMTTYPE=image/jpeg:https://paoloswings.com/blog/wp-content/uploads/2018/02/Charleston-at-Penthouse-Screenshot.jpg
END:VEVENT
END:VCALENDAR