BEGIN:VCALENDAR
VERSION:2.0
PRODID:-//Paolo Swings - ECPv4.6.15//NONSGML v1.0//EN
CALSCALE:GREGORIAN
METHOD:PUBLISH
X-WR-CALNAME:Paolo Swings
X-ORIGINAL-URL:https://paoloswings.com/blog
X-WR-CALDESC:Events for Paolo Swings
BEGIN:VEVENT
DTSTART;TZID=America/New_York:20150419T123000
DTEND;TZID=America/New_York:20150419T153000
DTSTAMP:20260422T093830
CREATED:20150401T195010Z
LAST-MODIFIED:20150401T195010Z
UID:5413-1429446600-1429457400@paoloswings.com
SUMMARY:Collegiate Shag Crash Course
DESCRIPTION:12:30p-3:30p: with Adrienne Weidert and Rafal Pustelny \nCome Join Adrienne (1st Place National Jitterbug Shag Champion) and Rafal in this introductory workshop of this classic 1930’s dance. Collegiate Shag is known as a fast dance of fun\, fancy footwork. Even the most basic Shag steps are a lot of fun to do and watch. \nPricing: $40 in advance / $50 day of \nREGISTER HERE: http://youshouldbedancing.nyc/events/collegiate-shag-crash-course/ \n 
URL:https://paoloswings.com/blog/event/collegiate-shag-crash-course/
LOCATION:412 Eighth Avenue 4th Floor\, New York\, NY\, 10001\, United States
GEO:40.7499527;-73.9947516
X-APPLE-STRUCTURED-LOCATION;VALUE=URI;X-ADDRESS=412 Eighth Avenue 4th Floor New York NY 10001 United States;X-APPLE-RADIUS=500;X-TITLE=412 Eighth Avenue 4th Floor:geo:-73.9947516,40.7499527
CATEGORIES:Classes,Upcoming
ATTACH;FMTTYPE=:
END:VEVENT
END:VCALENDAR