BEGIN:VCALENDAR
VERSION:2.0
PRODID:-//Paolo Swings - ECPv4.6.15//NONSGML v1.0//EN
CALSCALE:GREGORIAN
METHOD:PUBLISH
X-WR-CALNAME:Paolo Swings
X-ORIGINAL-URL:https://paoloswings.com/blog
X-WR-CALDESC:Events for Paolo Swings
BEGIN:VEVENT
DTSTART;TZID=America/New_York:20191228T143000
DTEND;TZID=America/New_York:20191228T163000
DTSTAMP:20260422T093839
CREATED:20191215T154513Z
LAST-MODIFIED:20191215T154513Z
UID:3838-1577543400-1577550600@paoloswings.com
SUMMARY:Collegiate Shag Crash
DESCRIPTION:SATURDAY\nDECEMBER 28\n2:30 – 4:30PM \nPaolo & Special Guests \nThis wildly fun dance with its unique hopping basic and fancy kicks make it a top choice for those looking to stand out from the crowd. In this workshop you’ll get a solid understanding of the footwork & connection & how to incorporate this style into your repertoire. We’ll also share strategies for building on patterns. \nPrice: $35 in advance / $45 day of \n 
URL:https://paoloswings.com/blog/event/collegiate-shag-crash/
LOCATION:412 Eighth Avenue 4th Floor\, New York\, NY\, 10001\, United States
GEO:40.7499527;-73.9947516
X-APPLE-STRUCTURED-LOCATION;VALUE=URI;X-ADDRESS=412 Eighth Avenue 4th Floor New York NY 10001 United States;X-APPLE-RADIUS=500;X-TITLE=412 Eighth Avenue 4th Floor:geo:-73.9947516,40.7499527
CATEGORIES:Classes,Upcoming
ATTACH;FMTTYPE=image/jpeg:https://paoloswings.com/blog/wp-content/uploads/2019/12/Collegiate-Shag-Crash-8X10-2019-1.jpg
END:VEVENT
END:VCALENDAR