BEGIN:VCALENDAR
VERSION:2.0
PRODID:-//Paolo Swings - ECPv4.6.15//NONSGML v1.0//EN
CALSCALE:GREGORIAN
METHOD:PUBLISH
X-WR-CALNAME:Paolo Swings
X-ORIGINAL-URL:https://paoloswings.com/blog
X-WR-CALDESC:Events for Paolo Swings
BEGIN:VEVENT
DTSTART;TZID=America/New_York:20170205T033000
DTEND;TZID=America/New_York:20170205T183000
DTSTAMP:20260422T112644
CREATED:20170130T224421Z
LAST-MODIFIED:20170130T224421Z
UID:5519-1486265400-1486319400@paoloswings.com
SUMMARY:Collegiate Shag\, The Art of Shagging
DESCRIPTION:You Should Be Dancing studios \n412 Eighth Ave\, NYC (by Penn Station) \n  \n  \n 
URL:https://paoloswings.com/blog/event/collegiate-shag-the-art-of-shagging/
LOCATION:412 Eighth Avenue 4th Floor\, New York\, NY\, 10001\, United States
GEO:40.7499527;-73.9947516
X-APPLE-STRUCTURED-LOCATION;VALUE=URI;X-ADDRESS=412 Eighth Avenue 4th Floor New York NY 10001 United States;X-APPLE-RADIUS=500;X-TITLE=412 Eighth Avenue 4th Floor:geo:-73.9947516,40.7499527
CATEGORIES:Classes,Upcoming
ATTACH;FMTTYPE=:
END:VEVENT
END:VCALENDAR