BEGIN:VCALENDAR
VERSION:2.0
PRODID:-//Paolo Swings - ECPv4.6.15//NONSGML v1.0//EN
CALSCALE:GREGORIAN
METHOD:PUBLISH
X-WR-CALNAME:Paolo Swings
X-ORIGINAL-URL:https://paoloswings.com/blog
X-WR-CALDESC:Events for Paolo Swings
BEGIN:VEVENT
DTSTART;TZID=America/New_York:20191219T123000
DTEND;TZID=America/New_York:20191219T143000
DTSTAMP:20260422T144728
CREATED:20191126T145629Z
LAST-MODIFIED:20191218T030445Z
UID:3783-1576758600-1576765800@paoloswings.com
SUMMARY:Corporate Holiday Party  Gatsby Theme
DESCRIPTION:THURSDAY DEC 19\, 2019 CONFIRMED\nJumpin Entertainment LLC providing two couples from the Rhythm Stompers dance team for this fabulous Corporate Holiday Party. \nTheme: Gatsby ROARIN 20s\nMonroe Township\, NY \n 
URL:https://paoloswings.com/blog/event/corporate-holiday-party-gatsby-theme/
LOCATION:1 South Middlesex Avenue\, Monroe Township\, NJ\, 08831\, United States
CATEGORIES:Upcoming
ATTACH;FMTTYPE=image/jpeg:https://paoloswings.com/blog/wp-content/uploads/2019/06/IMG_0622SingSingSwing_webminiRhythmStompersCROPsfx.jpg
END:VEVENT
END:VCALENDAR