BEGIN:VCALENDAR
VERSION:2.0
PRODID:-//Paolo Swings - ECPv4.6.15//NONSGML v1.0//EN
CALSCALE:GREGORIAN
METHOD:PUBLISH
X-WR-CALNAME:Paolo Swings
X-ORIGINAL-URL:https://paoloswings.com/blog
X-WR-CALDESC:Events for Paolo Swings
BEGIN:VEVENT
DTSTART;TZID=America/New_York:20180519T190000
DTEND;TZID=America/New_York:20180519T233000
DTSTAMP:20260422T093808
CREATED:20180519T155108Z
LAST-MODIFIED:20180519T155108Z
UID:2854-1526756400-1526772600@paoloswings.com
SUMMARY:Dancing for our Stars
DESCRIPTION:Paolo will be joined by his students for dance presentations at this fundraiser dance party in Westchester to benefit Support Connection.  Introductory Swing Class at 7:30pm \n \n  \n  \n 
URL:https://paoloswings.com/blog/event/dancing-for-our-stars/
LOCATION:Poughkeepsie\, United States
GEO:41.7003713;-73.9209701
CATEGORIES:Classes,Upcoming
ATTACH;FMTTYPE=image/jpeg:https://paoloswings.com/blog/wp-content/uploads/2018/05/Furball-39OLEG-TREBUNSKIweb.jpg
END:VEVENT
END:VCALENDAR