BEGIN:VCALENDAR
VERSION:2.0
PRODID:-//Paolo Swings - ECPv4.6.15//NONSGML v1.0//EN
CALSCALE:GREGORIAN
METHOD:PUBLISH
X-WR-CALNAME:Paolo Swings
X-ORIGINAL-URL:https://paoloswings.com/blog
X-WR-CALDESC:Events for Paolo Swings
BEGIN:VEVENT
DTSTART;TZID=America/New_York:20190310T143000
DTEND;TZID=America/New_York:20190310T173000
DTSTAMP:20260422T093825
CREATED:20190207T063302Z
LAST-MODIFIED:20190207T063302Z
UID:5893-1552228200-1552239000@paoloswings.com
SUMMARY:Dean Collin's Shim Sham
DESCRIPTION:You’ve heard of the Shim Sham and even know many of the steps\, but do you know the version made popular by Dean Collin? Here’s your chance to learn this wonderful extended version complete steps like The Suzie Q\, Savoy Kicks\, Tabby The Cat\, and the classic Kick Ball Change breaks \n  \n 
URL:https://paoloswings.com/blog/event/dean-collins-shim-sham/
LOCATION:412 Eighth Avenue 4th Floor\, New York\, NY\, 10001\, United States
GEO:40.7499527;-73.9947516
X-APPLE-STRUCTURED-LOCATION;VALUE=URI;X-ADDRESS=412 Eighth Avenue 4th Floor New York NY 10001 United States;X-APPLE-RADIUS=500;X-TITLE=412 Eighth Avenue 4th Floor:geo:-73.9947516,40.7499527
CATEGORIES:Classes,Upcoming
ATTACH;FMTTYPE=image/jpeg:https://paoloswings.com/blog/wp-content/uploads/2019/02/Dean-Collins-Shim-Sham-Paolo-8X10.jpg
END:VEVENT
END:VCALENDAR