BEGIN:VCALENDAR
VERSION:2.0
PRODID:-//Paolo Swings - ECPv4.6.15//NONSGML v1.0//EN
CALSCALE:GREGORIAN
METHOD:PUBLISH
X-WR-CALNAME:Paolo Swings
X-ORIGINAL-URL:https://paoloswings.com/blog
X-WR-CALDESC:Events for Paolo Swings
BEGIN:VEVENT
DTSTART;TZID=America/New_York:20180804T100000
DTEND;TZID=America/New_York:20180804T170000
DTSTAMP:20260422T112218
CREATED:20180416T172320Z
LAST-MODIFIED:20180416T172320Z
UID:2770-1533376800-1533402000@paoloswings.com
SUMMARY:Deco on the Delaware
DESCRIPTION:GLEN FOERD CONSERVATION CORPORATION presents:\n Philadelphia’s Premier 1920s Event\nMembers of the Rhythm Stompers will be joining Roddy Caravella and his Canarsie Wobblers for dance showcases at this fabulous outdoor event! \n 
URL:https://paoloswings.com/blog/event/deco-on-the-delaware/
LOCATION:5001 Grant Avenue\, Philadelphia\, PA\, 19114 United States\, United States
GEO:40.0515769;-74.9788515
X-APPLE-STRUCTURED-LOCATION;VALUE=URI;X-ADDRESS=5001 Grant Avenue Philadelphia PA 19114 United States United States;X-APPLE-RADIUS=500;X-TITLE=5001 Grant Avenue:geo:-74.9788515,40.0515769
CATEGORIES:Classes,Upcoming
ATTACH;FMTTYPE=:
END:VEVENT
END:VCALENDAR