BEGIN:VCALENDAR
VERSION:2.0
PRODID:-//Paolo Swings - ECPv4.6.15//NONSGML v1.0//EN
CALSCALE:GREGORIAN
METHOD:PUBLISH
X-WR-CALNAME:Paolo Swings
X-ORIGINAL-URL:https://paoloswings.com/blog
X-WR-CALDESC:Events for Paolo Swings
BEGIN:VEVENT
DTSTART;TZID=America/New_York:20171027T203000
DTEND;TZID=America/New_York:20171027T233000
DTSTAMP:20260422T112321
CREATED:20171023T173312Z
LAST-MODIFIED:20171023T173312Z
UID:2359-1509136200-1509147000@paoloswings.com
SUMMARY:DeeJay at ALHC
DESCRIPTION:Our lead organizer Paolo will be the HEAD DEEJAY at this year’s American Lindy Hop Championships held in HARLEM New York. The Dance Parties and Contests run from Thursday OCT 26 – Sunday Oct 29 2017. Info available here http://artspectrum.org/alhc.htm \n  \n 
URL:https://paoloswings.com/blog/event/deejay-at-alhc/2017-10-27/
CATEGORIES:Classes,Upcoming
ATTACH;FMTTYPE=:
END:VEVENT
END:VCALENDAR