BEGIN:VCALENDAR
VERSION:2.0
PRODID:-//Paolo Swings - ECPv4.6.15//NONSGML v1.0//EN
CALSCALE:GREGORIAN
METHOD:PUBLISH
X-WR-CALNAME:Paolo Swings
X-ORIGINAL-URL:https://paoloswings.com/blog
X-WR-CALDESC:Events for Paolo Swings
BEGIN:VEVENT
DTSTART;TZID=America/New_York:20171020T200000
DTEND;TZID=America/New_York:20171020T233000
DTSTAMP:20260424T101117
CREATED:20170829T034644Z
LAST-MODIFIED:20170829T034644Z
UID:5573-1508529600-1508542200@paoloswings.com
SUMMARY:FALL BASH at YSBD
DESCRIPTION:The You Should Be Dancing studio presents their FALL BASH. The event will feature performances by members of The Rhythm Stompers.  \n 
URL:https://paoloswings.com/blog/event/fall-bash-at-ysbd/
LOCATION:412 Eighth Avenue 4th Floor\, New York\, NY\, 10001\, United States
GEO:40.7499527;-73.9947516
X-APPLE-STRUCTURED-LOCATION;VALUE=URI;X-ADDRESS=412 Eighth Avenue 4th Floor New York NY 10001 United States;X-APPLE-RADIUS=500;X-TITLE=412 Eighth Avenue 4th Floor:geo:-73.9947516,40.7499527
CATEGORIES:Classes,Upcoming
ATTACH;FMTTYPE=:
END:VEVENT
END:VCALENDAR