BEGIN:VCALENDAR
VERSION:2.0
PRODID:-//Paolo Swings - ECPv4.6.15//NONSGML v1.0//EN
CALSCALE:GREGORIAN
METHOD:PUBLISH
X-WR-CALNAME:Paolo Swings
X-ORIGINAL-URL:https://paoloswings.com/blog
X-WR-CALDESC:Events for Paolo Swings
BEGIN:VEVENT
DTSTART;TZID=America/New_York:20170916T130000
DTEND;TZID=America/New_York:20170916T170000
DTSTAMP:20260422T112533
CREATED:20170822T173111Z
LAST-MODIFIED:20170822T173111Z
UID:5564-1505566800-1505581200@paoloswings.com
SUMMARY:Feast of San Gennaro Belmar
DESCRIPTION:Paolo & Laurentina of the Rhythm Stompers will joining Nick Palumbo and his Hot Four for some fun music and dancing. They will be showcasing their favorite numbers and teaching a new steps at this wonderful Italian Festival on the Jersey Shore.  \n 
URL:https://paoloswings.com/blog/event/feast-of-san-gennaro-belmar/
CATEGORIES:Classes,Upcoming
ATTACH;FMTTYPE=image/jpeg:https://paoloswings.com/blog/wp-content/uploads/2016/12/TheWineryAtStGeorge_Speakeasy_Christmas.jpeg
END:VEVENT
END:VCALENDAR