BEGIN:VCALENDAR
VERSION:2.0
PRODID:-//Paolo Swings - ECPv4.6.15//NONSGML v1.0//EN
CALSCALE:GREGORIAN
METHOD:PUBLISH
X-WR-CALNAME:Paolo Swings
X-ORIGINAL-URL:https://paoloswings.com/blog
X-WR-CALDESC:Events for Paolo Swings
BEGIN:VEVENT
DTSTART;TZID=America/New_York:20190915T150000
DTEND;TZID=America/New_York:20190915T210000
DTSTAMP:20260422T112319
CREATED:20190913T180136Z
LAST-MODIFIED:20190913T180136Z
UID:3621-1568559600-1568581200@paoloswings.com
SUMMARY:It's De- Lovely show
DESCRIPTION:SHOW DETAILS\nhttp://nropera.org/currently-playing\nIt’s De-Lovely\nA tribute concert to Cole Porter in celebration of the 85th anniversary of Anything Goes!\nSunday\, September 15th\n3PM Start\nLocation: Christopher Murphy Auditorium at Iona College\n715 North Ave\, New Rochelle\, NY 10801Westchester Ballroom is providing a fabulous ballroom dance couple to join opera singers on this unique presentation presented by The New Rochelle Opera Company. Afterwards\, join Westchester Ballroom for a receptionReception Immediately following the Performance of \n“ITS DELOVELY”\n\n“A Celebration of Cole Porter” Ballroom & Swing Dancing\nwith DJ SHUFFLE STEPS\n\nTime: 6:00pm\nLocation: Alvin and Friends Restaurant\n14 Memorial Highway\nNew Rochelle\, NY\nIn the Private Room\nCover $10\nCash Bar.\nMeals a la carte.\n 
URL:https://paoloswings.com/blog/event/its-de-lovely-show/
LOCATION:715 North Ave\,\, New Rochelle\, NY\, 10801\, United States
CATEGORIES:Upcoming
ATTACH;FMTTYPE=image/jpeg:https://paoloswings.com/blog/wp-content/uploads/2019/09/BallroomDancers_LouHeather_Flying.jpg
END:VEVENT
END:VCALENDAR