BEGIN:VCALENDAR
VERSION:2.0
PRODID:-//Paolo Swings - ECPv4.6.15//NONSGML v1.0//EN
CALSCALE:GREGORIAN
METHOD:PUBLISH
X-WR-CALNAME:Paolo Swings
X-ORIGINAL-URL:https://paoloswings.com/blog
X-WR-CALDESC:Events for Paolo Swings
BEGIN:VEVENT
DTSTART;TZID=America/New_York:20230211T150000
DTEND;TZID=America/New_York:20230211T170000
DTSTAMP:20260421T121857
CREATED:20230207T181010Z
LAST-MODIFIED:20230209T181028Z
UID:6673-1676127600-1676134800@paoloswings.com
SUMMARY:KILLER BOOGIE Swing Workshop
DESCRIPTION:SWING WORKSHOP\nKiLLER BOOGIE SOLO ROUTINE\nDATE: SUNDAY FEBRUARY 12\, 2023\nLOCATION: DANZNIK STUDIOS NYC\nDANZNIK 240 W 37th NYC\n\nINSTRUCTOR: Paolo & Company\nLearn the famous Killer Boogie Solo Jazz Routine as seen at the ROCK THAT SWING Festival (Germany). This routine is jam packed with jazzy footwork set to one furiously fast boogie woogie piano recording.\nBring a change of shirt and towel. This class contains vigorous physical activity\n\nhttps://youtu.be/XcHsHrFobgg\n 
URL:https://paoloswings.com/blog/event/killer-boogie-swing-workshop/
LOCATION:240 W 37th Street\, New York\, NY\, United States
CATEGORIES:Classes,Upcoming
ATTACH;FMTTYPE=image/jpeg:https://paoloswings.com/blog/wp-content/uploads/2023/02/Workshop-Killer-Boogie-NYC-FEB-2023A.jpg
END:VEVENT
END:VCALENDAR