BEGIN:VCALENDAR
VERSION:2.0
PRODID:-//Paolo Swings - ECPv4.6.15//NONSGML v1.0//EN
CALSCALE:GREGORIAN
METHOD:PUBLISH
X-WR-CALNAME:Paolo Swings
X-ORIGINAL-URL:https://paoloswings.com/blog
X-WR-CALDESC:Events for Paolo Swings
BEGIN:VEVENT
DTSTART;TZID=America/New_York:20160214T143000
DTEND;TZID=America/New_York:20160214T173000
DTSTAMP:20260424T152720
CREATED:20160124T201257Z
LAST-MODIFIED:20160124T201257Z
UID:5445-1455460200-1455471000@paoloswings.com
SUMMARY:Lindy Express
DESCRIPTION:The LINDY EXPRESS\nwith Paolo & Rachel \nAll Aboard the Lindy Train. We’ll head up the tracks with two great conductors and cover some speedy and rugged material for your Lindy Hop. Hold on tight because this Train is Express! An accelerated learning experience great for the development of your style and vocabulary. \n 
URL:https://paoloswings.com/blog/event/lindy-express-3/
CATEGORIES:Classes
ATTACH;FMTTYPE=:
END:VEVENT
END:VCALENDAR