BEGIN:VCALENDAR
VERSION:2.0
PRODID:-//Paolo Swings - ECPv4.6.15//NONSGML v1.0//EN
CALSCALE:GREGORIAN
METHOD:PUBLISH
X-WR-CALNAME:Paolo Swings
X-ORIGINAL-URL:https://paoloswings.com/blog
X-WR-CALDESC:Events for Paolo Swings
BEGIN:VEVENT
DTSTART;TZID=America/New_York:20231014T154500
DTEND;TZID=America/New_York:20231014T170000
DTSTAMP:20260420T121642
CREATED:20230920T053647Z
LAST-MODIFIED:20230920T053659Z
UID:6779-1697298300-1697302800@paoloswings.com
SUMMARY:LINDY NEXT LEVEL
DESCRIPTION:LINDY NEXT LEVEL \nSATURDAY OCT 14\, 2023 \n3:45PM START \nDANZNIK STUDIOS 240 W 37th NYC \nINSTRUCTORS: Paolo & Special Guests \nAdd stylish Lindy Hop partner combinations and patterns to expand your swing dance knowledge. We’ll begin with the Classic Lindy Circle\, The Tuck Turn and Shoot Thru. Techniques of counter-balance\, grounding and responsibilities of leader and follow are studied for optimal execution of the material. Swivels if time permits. \nVISIT EVENTBRITE PAGE | EARLY BIRD SPECIAL \n 
URL:https://paoloswings.com/blog/event/lindy-next-level/
LOCATION:240 W 37th Street\, New York\, NY\, United States
CATEGORIES:Classes,Upcoming
ATTACH;FMTTYPE=image/jpeg:https://paoloswings.com/blog/wp-content/uploads/2023/09/LINDY-Next-Level-SAT-OCT-14-2023.jpg
END:VEVENT
END:VCALENDAR