BEGIN:VCALENDAR
VERSION:2.0
PRODID:-//Paolo Swings - ECPv4.6.15//NONSGML v1.0//EN
CALSCALE:GREGORIAN
METHOD:PUBLISH
X-WR-CALNAME:Paolo Swings
X-ORIGINAL-URL:https://paoloswings.com/blog
X-WR-CALDESC:Events for Paolo Swings
BEGIN:VEVENT
DTSTART;TZID=America/New_York:20191215T160000
DTEND;TZID=America/New_York:20191215T183000
DTSTAMP:20260422T093750
CREATED:20191215T154128Z
LAST-MODIFIED:20191215T154128Z
UID:3833-1576425600-1576434600@paoloswings.com
SUMMARY:Line Dance workshop pt 3 FREE
DESCRIPTION:Sunday DEC 15\n4:00-6:30pm \nLearn 3 Fun Line dances to enhance and further your vocabulary of patterns and footwork.  \nWe’ll cover some of the newest trends on the swing dance circuit today so you can join in with the crowds. \nThe Swing Stroll | Lindy Hop Style (Ryan Francois choreographer) \nmusic: “My Baby Just Cares for Me” & our Soul Version “Messin’ w the Kid” \n  \nThe Majestic | 1950s Jitterbug Style (Paolo choreographer) \nmusic: Dion’s “The Majestic”  \n  \nShake That | West Coast Swing style \nmusic: Eminem’s “Shake That” \n  \nBonus Line (if time permits) \n(Approx 40 min on each line\, taught in listed order) \nPRICING: FREE – must register in advance. \n 
URL:https://paoloswings.com/blog/event/line-dance-workshop-pt-3-free/
LOCATION:412 Eighth Avenue 4th Floor\, New York\, NY\, 10001\, United States
GEO:40.7499527;-73.9947516
X-APPLE-STRUCTURED-LOCATION;VALUE=URI;X-ADDRESS=412 Eighth Avenue 4th Floor New York NY 10001 United States;X-APPLE-RADIUS=500;X-TITLE=412 Eighth Avenue 4th Floor:geo:-73.9947516,40.7499527
CATEGORIES:Classes,Upcoming
ATTACH;FMTTYPE=image/jpeg:https://paoloswings.com/blog/wp-content/uploads/2019/12/Line-Dances-Part-3-8X10-2019.jpg
END:VEVENT
END:VCALENDAR