BEGIN:VCALENDAR
VERSION:2.0
PRODID:-//Paolo Swings - ECPv4.6.15//NONSGML v1.0//EN
CALSCALE:GREGORIAN
METHOD:PUBLISH
X-WR-CALNAME:Paolo Swings
X-ORIGINAL-URL:https://paoloswings.com/blog
X-WR-CALDESC:Events for Paolo Swings
BEGIN:VEVENT
DTSTART;TZID=America/New_York:20180702T183000
DTEND;TZID=America/New_York:20180702T210000
DTSTAMP:20260422T093159
CREATED:20180702T125929Z
LAST-MODIFIED:20180702T130012Z
UID:5703-1530556200-1530565200@paoloswings.com
SUMMARY:Line Dance workshop
DESCRIPTION:Learn some of the favorite Line Dances in the Swing World today. We’ll cover the Shim Sham\, The Jitterbug Stroll\, The Majestic and if time permits\, the Madison Time. \n  \n \n  \n 
URL:https://paoloswings.com/blog/event/line-dance-workshop/
LOCATION:412 Eighth Avenue 4th Floor\, New York\, NY\, 10001\, United States
GEO:40.7499527;-73.9947516
X-APPLE-STRUCTURED-LOCATION;VALUE=URI;X-ADDRESS=412 Eighth Avenue 4th Floor New York NY 10001 United States;X-APPLE-RADIUS=500;X-TITLE=412 Eighth Avenue 4th Floor:geo:-73.9947516,40.7499527
CATEGORIES:Classes,Upcoming
ATTACH;FMTTYPE=image/jpeg:https://paoloswings.com/blog/wp-content/uploads/2018/07/Line-Dances-2018-8X10.jpg
END:VEVENT
END:VCALENDAR