BEGIN:VCALENDAR
VERSION:2.0
PRODID:-//Paolo Swings - ECPv4.6.15//NONSGML v1.0//EN
CALSCALE:GREGORIAN
METHOD:PUBLISH
X-WR-CALNAME:Paolo Swings
X-ORIGINAL-URL:https://paoloswings.com/blog
X-WR-CALDESC:Events for Paolo Swings
BEGIN:VEVENT
DTSTART;TZID=America/New_York:20180706T180000
DTEND;TZID=America/New_York:20180706T220000
DTSTAMP:20260422T093345
CREATED:20180627T230329Z
LAST-MODIFIED:20180627T230704Z
UID:5675-1530900000-1530914400@paoloswings.com
SUMMARY:Midsummer Night Swing
DESCRIPTION:\nNaomi & Her Handsome Devils\n\nFriday\, July 6\, 2018\nStyle: Classic Swing\nDance Instructor: Gaby Cook teaches Lindy Charleston\nhttp://www.lincolncenter.org/midsummer-night-swing \n 
URL:https://paoloswings.com/blog/event/midsummer-night-swing-3/
LOCATION:New York
CATEGORIES:Classes,Upcoming
ATTACH;FMTTYPE=image/jpeg:https://paoloswings.com/blog/wp-content/uploads/2018/06/midsummer-night-swing-image-by-timeout.jpg
END:VEVENT
END:VCALENDAR