BEGIN:VCALENDAR
VERSION:2.0
PRODID:-//Paolo Swings - ECPv4.6.15//NONSGML v1.0//EN
CALSCALE:GREGORIAN
METHOD:PUBLISH
X-WR-CALNAME:Paolo Swings
X-ORIGINAL-URL:https://paoloswings.com/blog
X-WR-CALDESC:Events for Paolo Swings
BEGIN:VEVENT
DTSTART;TZID=America/New_York:20230206T183000
DTEND;TZID=America/New_York:20230206T213000
DTSTAMP:20260423T102831
CREATED:20230202T181302Z
LAST-MODIFIED:20230209T181344Z
UID:6678-1675708200-1675719000@paoloswings.com
SUMMARY:MONDAY SWING CLASSES at Danznik Studios NYC
DESCRIPTION:SWING CLASSES with TEAM LINDYLAND\nMONDAYS FEB – MAR\, 2023\nDANZNIK 240 W 37th NYC\nDANZNIK.COM\nFACEBOOK EVENT https://fb.me/e/2m2W1IP13 \n6:30 SWING LINDY (all levels)\nFundamentals for Swing. Build Lead’Follow Techniques \n7:30 LINDY HOP\nWe’ll warm up with Solo Jazz steps and patterns. Then let’s rock with the Lindy Hop \n8:30 CHARLESTON\nSolo Charleston styling. Then let’s put it together in Partner Form. Great training for those Roaring Twenties and Gatsby Celebrations. \nCall Danznik to sign up 212-500-1064 \n 
URL:https://paoloswings.com/blog/event/monday-swing-classes-at-danznik-studios-nyc/2023-02-06/
LOCATION:240 W 37th Street\, New York\, NY\, United States
CATEGORIES:Classes,Upcoming
ATTACH;FMTTYPE=image/jpeg:https://paoloswings.com/blog/wp-content/uploads/2023/02/Swing-Classes-MON-NYC-FEB-2023.jpg
END:VEVENT
END:VCALENDAR