BEGIN:VCALENDAR
VERSION:2.0
PRODID:-//Paolo Swings - ECPv4.6.15//NONSGML v1.0//EN
CALSCALE:GREGORIAN
METHOD:PUBLISH
X-WR-CALNAME:Paolo Swings
X-ORIGINAL-URL:https://paoloswings.com/blog
X-WR-CALDESC:Events for Paolo Swings
BEGIN:VEVENT
DTSTART;TZID=America/New_York:20230619T190000
DTEND;TZID=America/New_York:20230619T210000
DTSTAMP:20260424T134902
CREATED:20230906T023134Z
LAST-MODIFIED:20230906T023134Z
UID:6733-1687201200-1687208400@paoloswings.com
SUMMARY:Monday Swing Classes
DESCRIPTION:MONDAY SWING CLASSES \n \nOur New Swing Class Series begins MONDAY JUNE 19th and run weekly thru the summer 2023. \n7PM INTRO TO SWING LINDY (all levels)\nFundamentals for Swing. Build Lead’Follow Techniques.\nINSTRUCTOR: PAOLO PASTA LANNA \n8PM LINDY HOP\nWe’ll warm up with Solo Jazz steps and patterns. Then let’s rock with the Lindy Hop. (Must have minimum 3 months of Intro to Swing)\nINSTRUCTOR: PAOLO PASTA LANNA\nLOCATION: DANZNIK STUDIOS in NYC \nCall Danznik to sign up 212-500-1064 or go to DANZNIK.COM \n 
URL:https://paoloswings.com/blog/event/monday-swing-classes/2023-06-19/
LOCATION:240 W 37th Street\, New York\, NY\, United States
CATEGORIES:Classes,Upcoming
ATTACH;FMTTYPE=image/jpeg:https://paoloswings.com/blog/wp-content/uploads/2023/09/Swing-Classes-MON-NYC-JUN-2023-1080WEB.jpg
END:VEVENT
END:VCALENDAR