BEGIN:VCALENDAR
VERSION:2.0
PRODID:-//Paolo Swings - ECPv4.6.15//NONSGML v1.0//EN
CALSCALE:GREGORIAN
METHOD:PUBLISH
X-WR-CALNAME:Paolo Swings
X-ORIGINAL-URL:https://paoloswings.com/blog
X-WR-CALDESC:Events for Paolo Swings
BEGIN:VEVENT
DTSTART;TZID=America/New_York:20160307T193000
DTEND;TZID=America/New_York:20160307T213000
DTSTAMP:20260424T101315
CREATED:20160217T190358Z
LAST-MODIFIED:20160217T190358Z
UID:5447-1457379000-1457386200@paoloswings.com
SUMMARY:Monday Swing Classes
DESCRIPTION:  \nCollegiate Shag Fundamentals\n4-week group course with Paolo \nMondays at 8:30pm (next series starts Monday March 7th) \nToday Collegiate Shag is a favorite to see performed on the swing dance circuits. We’ll take the best lead/follow patterns and demonstrate how to incorporate them into your Collegiate Shag repertoire. The basic footwork & patterns are fun and easy to learn. \n\nCorrect frame\, Body posture and Hand positioning\nClosed\, Open\, Diagonal and Side-by-side position\nTap variations in the basic step\, Step taps\, Step holds\, Pull kicks\, Double Kicks\nOutside Turns released and connected\, Passes (Pass Byes)\, The Swing-A-Roo (Merry Go Round)\, And more\n\nDetails and Register Here http://youshouldbedancing.nyc/events/collegiate-shag-fundamentals-4 \n  \nLindy Hop: Styling Choreography\n4-week course with Stina Dallons \nMondays\, 7:30-8:30pm \nEach week\, the class will learn a new piece of short choreography. We will discuss new ways to style the steps\, and how to add these techniques to your social dancing. Knowledge of 8 count is needed. We will be focusing on musicality to famous swing songs and seeing how these beats change when you change the song. This class will not be progressive; each week is its own section. \n 
URL:https://paoloswings.com/blog/event/new-monday-classes/
LOCATION:412 Eighth Avenue 4th Floor\, New York\, NY\, 10001\, United States
GEO:40.7499527;-73.9947516
X-APPLE-STRUCTURED-LOCATION;VALUE=URI;X-ADDRESS=412 Eighth Avenue 4th Floor New York NY 10001 United States;X-APPLE-RADIUS=500;X-TITLE=412 Eighth Avenue 4th Floor:geo:-73.9947516,40.7499527
CATEGORIES:Classes,Upcoming
ATTACH;FMTTYPE=:
END:VEVENT
END:VCALENDAR