BEGIN:VCALENDAR
VERSION:2.0
PRODID:-//Paolo Swings - ECPv4.6.15//NONSGML v1.0//EN
CALSCALE:GREGORIAN
METHOD:PUBLISH
X-WR-CALNAME:Paolo Swings
X-ORIGINAL-URL:https://paoloswings.com/blog
X-WR-CALDESC:Events for Paolo Swings
BEGIN:VEVENT
DTSTART;TZID=America/New_York:20180713T180000
DTEND;TZID=America/New_York:20180713T220000
DTSTAMP:20260422T144723
CREATED:20180401T231624Z
LAST-MODIFIED:20180707T024708Z
UID:2737-1531504800-1531519200@paoloswings.com
SUMMARY:Midsummer Night Swing Dance & Music Festival
DESCRIPTION:FRIDAY JULY 13 2018\nMidsummer Night Swing \nOUTDOOR DANCE FESTIVAL NYC\nFIVE FOOT TWO (Shag Number)\nLOCATION: Damrosch Park\, Lincoln Center NYC\n \nPaolo\, director of the Rhythm Stompers will lead a dance lesson at the start of this popular outdoor dance & music festival. Immediately afterwards\, enjoy a performance by the Flying Camels Collegiate Shag team. 6pm Start time. \nJoin the Facebook Invite Here \n \n 
URL:https://paoloswings.com/blog/event/outdoor-dance-festival/
LOCATION:New York
CATEGORIES:Classes,Upcoming
ATTACH;FMTTYPE=image/jpeg:https://paoloswings.com/blog/wp-content/uploads/2018/04/RhythmStompers_MidsummerNightSwing2015.jpg
END:VEVENT
END:VCALENDAR