BEGIN:VCALENDAR
VERSION:2.0
PRODID:-//Paolo Swings - ECPv4.6.15//NONSGML v1.0//EN
CALSCALE:GREGORIAN
METHOD:PUBLISH
X-WR-CALNAME:Paolo Swings
X-ORIGINAL-URL:https://paoloswings.com/blog
X-WR-CALDESC:Events for Paolo Swings
BEGIN:VEVENT
DTSTART;TZID=America/New_York:20191229T140000
DTEND;TZID=America/New_York:20191229T163000
DTSTAMP:20260424T102755
CREATED:20191214T181902Z
LAST-MODIFIED:20191218T030333Z
UID:3826-1577628000-1577637000@paoloswings.com
SUMMARY:Private Celebration
DESCRIPTION:Jumpin Entertainment LLC provides one spectacular swing couple for this private celebration. \n 
URL:https://paoloswings.com/blog/event/private-celebration-2/
LOCATION:10 Whitehall Rd\, Towaco\, NJ\, 07082\, United States
CATEGORIES:Upcoming
ATTACH;FMTTYPE=image/jpeg:https://paoloswings.com/blog/wp-content/uploads/2019/04/Paolo_Nina_Jump1064_YSBD_web_2017-by-John-Abbott.jpg
END:VEVENT
END:VCALENDAR