BEGIN:VCALENDAR
VERSION:2.0
PRODID:-//Paolo Swings - ECPv4.6.15//NONSGML v1.0//EN
CALSCALE:GREGORIAN
METHOD:PUBLISH
X-WR-CALNAME:Paolo Swings
X-ORIGINAL-URL:https://paoloswings.com/blog
X-WR-CALDESC:Events for Paolo Swings
BEGIN:VEVENT
DTSTART;TZID=America/New_York:20170923T190000
DTEND;TZID=America/New_York:20170923T210000
DTSTAMP:20260424T115113
CREATED:20170821T231229Z
LAST-MODIFIED:20170821T231229Z
UID:5563-1506193200-1506200400@paoloswings.com
SUMMARY:Private Celebration
DESCRIPTION:One of our favorite dance couples from the Rhythm Stompers will perform several styles of swing at the special Birthday celebration.  \n 
URL:https://paoloswings.com/blog/event/private-celebration/
CATEGORIES:Upcoming
ATTACH;FMTTYPE=:
END:VEVENT
END:VCALENDAR