BEGIN:VCALENDAR
VERSION:2.0
PRODID:-//Paolo Swings - ECPv4.6.15//NONSGML v1.0//EN
CALSCALE:GREGORIAN
METHOD:PUBLISH
X-WR-CALNAME:Paolo Swings
X-ORIGINAL-URL:https://paoloswings.com/blog
X-WR-CALDESC:Events for Paolo Swings
BEGIN:VEVENT
DTSTART;TZID=America/New_York:20170902T190000
DTEND;TZID=America/New_York:20170902T210000
DTSTAMP:20260422T192824
CREATED:20170821T224528Z
LAST-MODIFIED:20170821T224528Z
UID:5561-1504378800-1504386000@paoloswings.com
SUMMARY:Private Event
DESCRIPTION:Members of the Rhythm Stompers perform their favorite numbers at this special event \n 
URL:https://paoloswings.com/blog/event/private-event-5/
CATEGORIES:Upcoming
ATTACH;FMTTYPE=:
END:VEVENT
END:VCALENDAR