BEGIN:VCALENDAR
VERSION:2.0
PRODID:-//Paolo Swings - ECPv4.6.15//NONSGML v1.0//EN
CALSCALE:GREGORIAN
METHOD:PUBLISH
X-WR-CALNAME:Paolo Swings
X-ORIGINAL-URL:https://paoloswings.com/blog
X-WR-CALDESC:Events for Paolo Swings
BEGIN:VEVENT
DTSTART;TZID=America/New_York:20170812T160000
DTEND;TZID=America/New_York:20170812T170000
DTSTAMP:20260422T180042
CREATED:20170320T195946Z
LAST-MODIFIED:20170320T195946Z
UID:5552-1502553600-1502557200@paoloswings.com
SUMMARY:Private Event for Rhythm Stompers
DESCRIPTION:Private Event in NYC \n 
URL:https://paoloswings.com/blog/event/private-event-for-rhythm-stompers/
CATEGORIES:Upcoming
ATTACH;FMTTYPE=:
END:VEVENT
END:VCALENDAR