BEGIN:VCALENDAR
VERSION:2.0
PRODID:-//Paolo Swings - ECPv4.6.15//NONSGML v1.0//EN
CALSCALE:GREGORIAN
METHOD:PUBLISH
X-WR-CALNAME:Paolo Swings
X-ORIGINAL-URL:https://paoloswings.com/blog
X-WR-CALDESC:Events for Paolo Swings
BEGIN:VEVENT
DTSTART;TZID=America/New_York:20181007T190000
DTEND;TZID=America/New_York:20181007T220000
DTSTAMP:20260424T164749
CREATED:20180926T031430Z
LAST-MODIFIED:20180927T200457Z
UID:5808-1538938800-1538949600@paoloswings.com
SUMMARY:Private Celebration dance showcase
DESCRIPTION:Members of The Flying Camels and Rhythm Stompers will showcase vintage dance styles at this private celebration in Long Island. \n 
URL:https://paoloswings.com/blog/event/private-function-1930s-style/
CATEGORIES:Upcoming
ATTACH;FMTTYPE=image/jpeg:https://paoloswings.com/blog/wp-content/uploads/2017/01/OCT07_0110.jpg
END:VEVENT
END:VCALENDAR