BEGIN:VCALENDAR
VERSION:2.0
PRODID:-//Paolo Swings - ECPv4.6.15//NONSGML v1.0//EN
CALSCALE:GREGORIAN
METHOD:PUBLISH
X-WR-CALNAME:Paolo Swings
X-ORIGINAL-URL:https://paoloswings.com/blog
X-WR-CALDESC:Events for Paolo Swings
BEGIN:VEVENT
DTSTART;TZID=America/New_York:20190928T180000
DTEND;TZID=America/New_York:20190928T230000
DTSTAMP:20260424T100702
CREATED:20190606T210821Z
LAST-MODIFIED:20190606T210821Z
UID:6066-1569693600-1569711600@paoloswings.com
SUMMARY:Private Function Staten Island
DESCRIPTION:Members of the Rhythm Stompers and Flying Camels will showcase some DAZZLING numbers at this private function. \nSATURDAY SEPT 28th\nLOCATION: Staten Island\nTIME: 6pm – 10pm\nDEEJAY & SOUND SYSTEM  | DANCE COUPLE) \n 
URL:https://paoloswings.com/blog/event/private-function-4-2/
LOCATION:New York\, NY\, United States
CATEGORIES:Upcoming
ATTACH;FMTTYPE=:
END:VEVENT
END:VCALENDAR