BEGIN:VCALENDAR
VERSION:2.0
PRODID:-//Paolo Swings - ECPv4.6.15//NONSGML v1.0//EN
CALSCALE:GREGORIAN
METHOD:PUBLISH
X-WR-CALNAME:Paolo Swings
X-ORIGINAL-URL:https://paoloswings.com/blog
X-WR-CALDESC:Events for Paolo Swings
BEGIN:VEVENT
DTSTART;TZID=America/New_York:20171201T190000
DTEND;TZID=America/New_York:20171201T210000
DTSTAMP:20260422T092926
CREATED:20170926T170753Z
LAST-MODIFIED:20170926T170753Z
UID:5586-1512154800-1512162000@paoloswings.com
SUMMARY:Private Function (pending)
DESCRIPTION:One couple from the Rhythm Stompers to perform at this special event. \n 
URL:https://paoloswings.com/blog/event/private-function-pending/
ATTACH;FMTTYPE=image/jpeg:https://paoloswings.com/blog/wp-content/uploads/2015/11/Postcard_Dance-Contest_Winter2015-6REDweb.jpg
END:VEVENT
END:VCALENDAR