BEGIN:VCALENDAR
VERSION:2.0
PRODID:-//Paolo Swings - ECPv4.6.15//NONSGML v1.0//EN
CALSCALE:GREGORIAN
METHOD:PUBLISH
X-WR-CALNAME:Paolo Swings
X-ORIGINAL-URL:https://paoloswings.com/blog
X-WR-CALDESC:Events for Paolo Swings
BEGIN:VEVENT
DTSTART;TZID=America/New_York:20190824T170000
DTEND;TZID=America/New_York:20190824T220000
DTSTAMP:20260424T132448
CREATED:20190823T160550Z
LAST-MODIFIED:20190823T160604Z
UID:6056-1566666000-1566684000@paoloswings.com
SUMMARY:private function
DESCRIPTION:ncers from The Rhythm Stompers perform classic Charleston and Collegiate Shag for this private event! \n 
URL:https://paoloswings.com/blog/event/private-function/
LOCATION:NJ\, United States
CATEGORIES:Upcoming
ATTACH;FMTTYPE=image/jpeg:https://paoloswings.com/blog/wp-content/uploads/2018/01/MackenzieLane_PaoloLaurentina_WEBphoto_755893894.jpg
END:VEVENT
END:VCALENDAR