BEGIN:VCALENDAR
VERSION:2.0
PRODID:-//Paolo Swings - ECPv4.6.15//NONSGML v1.0//EN
CALSCALE:GREGORIAN
METHOD:PUBLISH
X-WR-CALNAME:Paolo Swings
X-ORIGINAL-URL:https://paoloswings.com/blog
X-WR-CALDESC:Events for Paolo Swings
BEGIN:VEVENT
DTSTART;TZID=America/New_York:20180929T180000
DTEND;TZID=America/New_York:20180929T213000
DTSTAMP:20260422T190307
CREATED:20180926T031348Z
LAST-MODIFIED:20180926T031348Z
UID:5810-1538244000-1538256600@paoloswings.com
SUMMARY:Private Party DISCO Theme
DESCRIPTION:Our Hustle Specialists will be in full 1970s wardrobe and ready to Dance for this private function in upstate NYC. \n \n 
URL:https://paoloswings.com/blog/event/private-party-disco-theme/
CATEGORIES:Upcoming
ATTACH;FMTTYPE=image/jpeg:https://paoloswings.com/blog/wp-content/uploads/2018/09/Hustle_Disco_Manuel_Exenia_WEB-sm1135.jpg
END:VEVENT
END:VCALENDAR