BEGIN:VCALENDAR
VERSION:2.0
PRODID:-//Paolo Swings - ECPv4.6.15//NONSGML v1.0//EN
CALSCALE:GREGORIAN
METHOD:PUBLISH
X-WR-CALNAME:Paolo Swings
X-ORIGINAL-URL:https://paoloswings.com/blog
X-WR-CALDESC:Events for Paolo Swings
BEGIN:VEVENT
DTSTART;TZID=America/New_York:20170225T070000
DTEND;TZID=America/New_York:20170225T220000
DTSTAMP:20260424T102920
CREATED:20170223T200024Z
LAST-MODIFIED:20170223T200024Z
UID:5529-1488006000-1488060000@paoloswings.com
SUMMARY:Private Party in Connecticut
DESCRIPTION:The Rhythm Stompers will be featured at a celebrity private function on Saturday February 25th. Bust Some Moves dancers! \n 
URL:https://paoloswings.com/blog/event/private-party-in-connecticut/
CATEGORIES:Upcoming
ATTACH;FMTTYPE=:
END:VEVENT
END:VCALENDAR