BEGIN:VCALENDAR
VERSION:2.0
PRODID:-//Paolo Swings - ECPv4.6.15//NONSGML v1.0//EN
CALSCALE:GREGORIAN
METHOD:PUBLISH
X-WR-CALNAME:Paolo Swings
X-ORIGINAL-URL:https://paoloswings.com/blog
X-WR-CALDESC:Events for Paolo Swings
BEGIN:VEVENT
DTSTART;TZID=America/New_York:20181109T200000
DTEND;TZID=America/New_York:20181110T013000
DTSTAMP:20260424T121149
CREATED:20181109T014042Z
LAST-MODIFIED:20181113T014230Z
UID:5840-1541793600-1541813400@paoloswings.com
SUMMARY:Prohibition Pong at SPIN NYC
DESCRIPTION:DeeJay Shuffle Puck joins Michael Arenella and his Band for a fabulous evening of Prohibition Era music\, dancing and drink specials.\nIt’s held at the Ping Pong venue SPIN at 48 EAST 23rd street\nhttps://wearespin.com/event/new-york-prohibition-pong/ \n \n 
URL:https://paoloswings.com/blog/event/prohibition-pong-at-spin-nyc/
CATEGORIES:Upcoming
ATTACH;FMTTYPE=image/jpeg:https://paoloswings.com/blog/wp-content/uploads/2018/11/prohibition-pong-webimage-1440x783.jpg
END:VEVENT
END:VCALENDAR