BEGIN:VCALENDAR
VERSION:2.0
PRODID:-//Paolo Swings - ECPv4.6.15//NONSGML v1.0//EN
CALSCALE:GREGORIAN
METHOD:PUBLISH
X-WR-CALNAME:Paolo Swings
X-ORIGINAL-URL:https://paoloswings.com/blog
X-WR-CALDESC:Events for Paolo Swings
BEGIN:VEVENT
DTSTART;TZID=America/New_York:20200220T160000
DTEND;TZID=America/New_York:20200224T230000
DTSTAMP:20260421T233607
CREATED:20200116T115709Z
LAST-MODIFIED:20200120T023104Z
UID:3864-1582214400-1582585200@paoloswings.com
SUMMARY:Rock That Swing 2020
DESCRIPTION:Your’s truly DJ Shuffle Steps will be part of the staff this year in Munich Germany for the Rock That Swing festival! \nWe are looking forward to welcoming guests from around the world to the 15th international Rock That Swing Festival in Munich from Feb 20th to 24th\, 2020. For more than a decade the festival celebrates the diversity of the dances and music of the Swing and Rock’n’Roll era from the 20s to the 50s. Over a span of 5 days\, fantastic dance nights\, hot live music\, shows\, competitions\, numerous workshops\, dance masters from the 30s\, and passionate dancers from all over the world create an inspiring and unforgettable atmosphere. \n  \n 
URL:https://paoloswings.com/blog/event/rock-that-swing-2020/
CATEGORIES:Classes,Upcoming
ATTACH;FMTTYPE=image/jpeg:https://paoloswings.com/blog/wp-content/uploads/2020/01/rockthatswing2020-coverweb.jpg
END:VEVENT
END:VCALENDAR