BEGIN:VCALENDAR
VERSION:2.0
PRODID:-//Paolo Swings - ECPv4.6.15//NONSGML v1.0//EN
CALSCALE:GREGORIAN
METHOD:PUBLISH
X-WR-CALNAME:Paolo Swings
X-ORIGINAL-URL:https://paoloswings.com/blog
X-WR-CALDESC:Events for Paolo Swings
BEGIN:VEVENT
DTSTART;TZID=America/New_York:20160204T180000
DTEND;TZID=America/New_York:20160208T170000
DTSTAMP:20260424T135029
CREATED:20160116T232539Z
LAST-MODIFIED:20160116T232539Z
UID:5444-1454608800-1454950800@paoloswings.com
SUMMARY:Rock That Swing festival
DESCRIPTION:World of Swing proudly presents the next international Rock That Swing Festival in Munich. The festival celebrates the diversity of the dances and music of the Swing and Rock’n’Roll era from the 20s to the 50s. Over a span of five days\, the fantastic dance nights\, hot live music\, shows\, competitions\, numerous workshops\, and passionate dancers from all over the world create an inspiring and unforgettable atmosphere\, unmatched in its variety. \nDuring the daytime more than 50 of the world’s best teachers offer a vast variety of more than 200 classes. Dancers at any level\, from beginners all the way up to teachers\, can create their own individual schedule selecting from classes in Lindy Hop\, Boogie Woogie\, Charleston\, Balboa\, Shag\, Authentic Jazz\, Rockabilly Jive\, Afro\, Blues\, and more. \nThe 11th edition will again offer a fantastic line-up of the best bands and teachers in great locations\, including two nights at the marvelous ballroom of the Deutsches Theater in the city center of Munich. Additionally the organizers and dance icons Marcus & Bärbl will celebrate the 25th anniversary of their partnership. \nRhythm Stompers member and DeeJay Shuffle Puck (Paolo) will be a special guest DeeJay during the weekend and really looking forward to returning to Rock That Swing! \n 
URL:https://paoloswings.com/blog/event/rock-that-swing-festival/
CATEGORIES:Upcoming
ATTACH;FMTTYPE=image/jpeg:https://paoloswings.com/blog/wp-content/uploads/2016/01/RockThatSwing_slider-103-1.jpg
END:VEVENT
END:VCALENDAR