BEGIN:VCALENDAR
VERSION:2.0
PRODID:-//Paolo Swings - ECPv4.6.15//NONSGML v1.0//EN
CALSCALE:GREGORIAN
METHOD:PUBLISH
X-WR-CALNAME:Paolo Swings
X-ORIGINAL-URL:https://paoloswings.com/blog
X-WR-CALDESC:Events for Paolo Swings
BEGIN:VEVENT
DTSTART;TZID=America/New_York:20160917T120500
DTEND;TZID=America/New_York:20160918T170000
DTSTAMP:20260424T103120
CREATED:20160804T042558Z
LAST-MODIFIED:20160804T042558Z
UID:5477-1474113900-1474218000@paoloswings.com
SUMMARY:San Gennaro Festival BELMAR
DESCRIPTION:Zeppolis\, Italian Sausage and Crispy Calamari OH MY! \nJoin us in celebrating this proud Italian heritage on the Jersey Shore as part of the fifth annual Feast of San Gennaro in Belmar. \nThis year’s festival will feature delicious foods\, live entertainment\, music and dancing in the traditional Feast way.  The festivities kick off on Saturday with a Mass celebrated in Italian at St. Rose Church in Belmar\, followed by the traditional procession of the Statue of San Gennaro to its place of honor on Main Street.  Visitors will can enjoy Italian treats\, a Wine & Beer Garden\, an eating contest\, crafters\, kids activities\, dancing in the street and more. \nSaturday\, September 17\, 11:00 am – 8:00 pm\nBAND: Matthew Piazzi & The Debonairs\nDANCERS: Paolo & Laurentina (partner dance specialists) \nSunday\, September 18\, 11:00 am – 5:00 pm\nBAND: Matthew Piazzi & The Debonairs \n  \nMain Street between 10th Avenue and 13th Ave. \, Belmar \n 
URL:https://paoloswings.com/blog/event/san-gennaro-festival-belmar/
CATEGORIES:Classes,Upcoming
ATTACH;FMTTYPE=:
END:VEVENT
END:VCALENDAR