BEGIN:VCALENDAR
VERSION:2.0
PRODID:-//Paolo Swings - ECPv4.6.15//NONSGML v1.0//EN
CALSCALE:GREGORIAN
METHOD:PUBLISH
X-WR-CALNAME:Paolo Swings
X-ORIGINAL-URL:https://paoloswings.com/blog
X-WR-CALDESC:Events for Paolo Swings
BEGIN:VEVENT
DTSTART;TZID=America/New_York:20180504T180000
DTEND;TZID=America/New_York:20180504T210000
DTSTAMP:20260422T124126
CREATED:20180416T221632Z
LAST-MODIFIED:20180416T221632Z
UID:5603-1525456800-1525467600@paoloswings.com
SUMMARY:Showcase with The Blue Vipers
DESCRIPTION:Paolo & Laurentina of the Rhythm Stompers will showcase their favorite dance styles on stage with the Blue Vipers of Brooklyn. \n \n  \n  \n 
URL:https://paoloswings.com/blog/event/showcase-with-the-blue-vipers/
CATEGORIES:Upcoming
ATTACH;FMTTYPE=:
END:VEVENT
END:VCALENDAR