BEGIN:VCALENDAR
VERSION:2.0
PRODID:-//Paolo Swings - ECPv4.6.15//NONSGML v1.0//EN
CALSCALE:GREGORIAN
METHOD:PUBLISH
X-WR-CALNAME:Paolo Swings
X-ORIGINAL-URL:https://paoloswings.com/blog
X-WR-CALDESC:Events for Paolo Swings
BEGIN:VEVENT
DTSTART;TZID=America/New_York:20190803T100000
DTEND;TZID=America/New_York:20190812T170000
DTSTAMP:20260424T102109
CREATED:20181027T153005Z
LAST-MODIFIED:20190715T212546Z
UID:6007-1564826400-1565629200@paoloswings.com
SUMMARY:Summer Jamboree
DESCRIPTION:Paolo of the Rhythm Stompers joins the staff at Summer Jamboree in Senigallia\, Italy for this fabulous 50s style music and dance festival! More news coming soon. \n \n  \n  \n 
URL:https://paoloswings.com/blog/event/summer-jamboree-2/
LOCATION:Senigallia\, Senigallia\, Italy
CATEGORIES:Classes,Upcoming
ATTACH;FMTTYPE=image/jpeg:https://paoloswings.com/blog/wp-content/uploads/2018/10/20170913-manifesto-summer-jamboree-2018.jpg
END:VEVENT
END:VCALENDAR