BEGIN:VCALENDAR
VERSION:2.0
PRODID:-//Paolo Swings - ECPv4.6.15//NONSGML v1.0//EN
CALSCALE:GREGORIAN
METHOD:PUBLISH
X-WR-CALNAME:Paolo Swings
X-ORIGINAL-URL:https://paoloswings.com/blog
X-WR-CALDESC:Events for Paolo Swings
BEGIN:VEVENT
DTSTART;TZID=America/New_York:20231014T140000
DTEND;TZID=America/New_York:20231014T153000
DTSTAMP:20260420T135226
CREATED:20230920T053332Z
LAST-MODIFIED:20230920T053409Z
UID:6776-1697292000-1697297400@paoloswings.com
SUMMARY:SWING CRASH COURSE
DESCRIPTION:SWING CRASH \nSATURDAY OCT 14\, 2023 \n2PM START \nDANZNIK STUDIOS 240 W 37th NYC \nINSTRUCTORS: Paolo & Special Guests \nIn this Accelerated content class\, learn the original style of swing dance that was born in Harlem during the late 1920’s (The Lindy Hop\, grandfather of Swing Dance). This introduces you to how to partner\, how to lead and follow\, plus learn the classic 6 & 8 count patterns. \nVISIT EVENTBRITE PAGE | EARLY BIRD SPECIAL \n 
URL:https://paoloswings.com/blog/event/swing-crash-course-10/
LOCATION:240 W 37th Street\, New York\, NY\, United States
CATEGORIES:Classes,Upcoming
ATTACH;FMTTYPE=image/jpeg:https://paoloswings.com/blog/wp-content/uploads/2023/09/SWING-CRASH-SAT-OCT-14-2023.jpg
END:VEVENT
END:VCALENDAR