BEGIN:VCALENDAR
VERSION:2.0
PRODID:-//Paolo Swings - ECPv4.6.15//NONSGML v1.0//EN
CALSCALE:GREGORIAN
METHOD:PUBLISH
X-WR-CALNAME:Paolo Swings
X-ORIGINAL-URL:https://paoloswings.com/blog
X-WR-CALDESC:Events for Paolo Swings
BEGIN:VEVENT
DTSTART;TZID=America/New_York:20230920T173000
DTEND;TZID=America/New_York:20230920T193000
DTSTAMP:20260422T110235
CREATED:20230920T052547Z
LAST-MODIFIED:20230920T052659Z
UID:6752-1695231000-1695238200@paoloswings.com
SUMMARY:SWING LINDY classes YONKERS
DESCRIPTION:SWING LINDY CLASSES | WEDNESDAYS\nLocation: Lincoln High School 140 Kneeland Ave. Yonkers NY\nDates: 10 Wednesdays starting SEPT 20\n5:30PM Beginner Swing\n6:30PM Next Level Swing\nLet us know if you’ll be attending! \nThe registration website is https://register.communitypass.net/yonkers \nYou will need to set up an account in order to see all the programs. Just click CREATE ACCOUNT located at the bottom left of page. Then you will see this page. \n 
URL:https://paoloswings.com/blog/event/swing-lindy-classes-yonkers/2023-09-20/
LOCATION:140 Kneeland Avenue\, Yonkers\, NY\, United States
CATEGORIES:Classes,Upcoming
ATTACH;FMTTYPE=image/jpeg:https://paoloswings.com/blog/wp-content/uploads/2023/09/Yonkers-Programs-2023-FALL-revised.jpg
END:VEVENT
END:VCALENDAR