BEGIN:VCALENDAR
VERSION:2.0
PRODID:-//Paolo Swings - ECPv4.6.15//NONSGML v1.0//EN
CALSCALE:GREGORIAN
METHOD:PUBLISH
X-WR-CALNAME:Paolo Swings
X-ORIGINAL-URL:https://paoloswings.com/blog
X-WR-CALDESC:Events for Paolo Swings
BEGIN:VEVENT
DTSTART;TZID=America/New_York:20171203T140000
DTEND;TZID=America/New_York:20171203T170000
DTSTAMP:20260424T143534
CREATED:20171124T000609Z
LAST-MODIFIED:20171124T000609Z
UID:2467-1512309600-1512320400@paoloswings.com
SUMMARY:Swing Line Dances workshop
DESCRIPTION:\nLine Dances & Jazz Footwork\nwith Paolo & Special Guests\nLevel: Open to All\nLearn some of the most popular Line Dances in the Swing World.\nLine Dances include: The Jitterbug Stroll\, The Shim Sham\, The Majestic\, Pricing: $35 in advance / $45 day of\nREGISTER HERE \n\n 
URL:https://paoloswings.com/blog/event/swing-line-dances-workshop/
LOCATION:412 Eighth Avenue 4th Floor\, New York\, NY\, 10001\, United States
GEO:40.7499527;-73.9947516
X-APPLE-STRUCTURED-LOCATION;VALUE=URI;X-ADDRESS=412 Eighth Avenue 4th Floor New York NY 10001 United States;X-APPLE-RADIUS=500;X-TITLE=412 Eighth Avenue 4th Floor:geo:-73.9947516,40.7499527
CATEGORIES:Classes,Upcoming
ATTACH;FMTTYPE=image/jpeg:https://paoloswings.com/blog/wp-content/uploads/2017/11/Line-Dances-WEB-YSBD-1.jpg
END:VEVENT
END:VCALENDAR