BEGIN:VCALENDAR
VERSION:2.0
PRODID:-//Paolo Swings - ECPv4.6.15//NONSGML v1.0//EN
CALSCALE:GREGORIAN
METHOD:PUBLISH
X-WR-CALNAME:Paolo Swings
X-ORIGINAL-URL:https://paoloswings.com/blog
X-WR-CALDESC:Events for Paolo Swings
BEGIN:VEVENT
DTSTART;TZID=America/New_York:20181215T183000
DTEND;TZID=America/New_York:20181216T003000
DTSTAMP:20260422T092624
CREATED:20180601T233849Z
LAST-MODIFIED:20180602T002539Z
UID:2880-1544898600-1544920200@paoloswings.com
SUMMARY:Swing Remix Dance Party\, Dec 15
DESCRIPTION:SWING REMIX DANCE\nDATE: Saturday Dec 15\, 2018\nLIVE MUSIC: TBA\nLOCATION: Marlene Meyerson JCC Manhattan\nThe Swing Remix Saga continues with their 3rd date of the Fall 2018 Season. Expect some rockin pre-dance workshops\, some fun dance performances and lots of social dance time. All the same wonderful features like these workshops\, dance showcases\, vintage market\, vintage films and more. Tickets for this date go on sale soon. \nTICKETS SWINGREMIX.COM \n 
URL:https://paoloswings.com/blog/event/swing-remix-dance-party-dec-15/
CATEGORIES:Upcoming
ATTACH;FMTTYPE=image/jpeg:https://paoloswings.com/blog/wp-content/uploads/2016/09/SwingRemix_GordonWebster_FromBalcony_SEPT2015SFXsmWEBIMG_2729.jpg
END:VEVENT
END:VCALENDAR