BEGIN:VCALENDAR
VERSION:2.0
PRODID:-//Paolo Swings - ECPv4.6.15//NONSGML v1.0//EN
CALSCALE:GREGORIAN
METHOD:PUBLISH
X-WR-CALNAME:Paolo Swings
X-ORIGINAL-URL:https://paoloswings.com/blog
X-WR-CALDESC:Events for Paolo Swings
BEGIN:VEVENT
DTSTART;TZID=America/New_York:20200215T193000
DTEND;TZID=America/New_York:20200216T003000
DTSTAMP:20260422T011030
CREATED:20200116T114457Z
LAST-MODIFIED:20200120T022646Z
UID:3861-1581795000-1581813000@paoloswings.com
SUMMARY:Swing Remix dance party FEB 15
DESCRIPTION:EXTRA! EXTRA! Read All About It!\nSATURDAY FEBRUARY 15th\nTHE EYAL VILNER BIG BAND \nThe Swing Remix Saga continues into WINTER 2020 SEASON with our headliner The EYAL VILNER BIG BAND on Saturday February 15th! In addition\, there will be Pre-Dance WORKSHOPS\, A BEGINNER SWING CLASS (Free with General Admission)\, LIVE MUSIC\, DANCE PERFORMANCES and Lots of SOCIAL DANCE TIME. PLUS A VINTAGE MARKET\, VINTAGE FILMS and give aways at our showtime hour. \nTICKETS ON SALE\nDiscounted Advanced Tickets available starting Monday January 6th at noon EST. \n 
URL:https://paoloswings.com/blog/event/swing-remix-dance-party-feb-15/
CATEGORIES:Classes,Upcoming
ATTACH;FMTTYPE=image/jpeg:https://paoloswings.com/blog/wp-content/uploads/2020/01/Postcard_BACKSIDE_WINTER2020web.jpg
END:VEVENT
END:VCALENDAR